BEGIN:VCALENDAR
VERSION:2.0
PRODID:-//Mamaway Wiidokdaadwin - ECPv6.15.12//NONSGML v1.0//EN
CALSCALE:GREGORIAN
METHOD:PUBLISH
X-WR-CALNAME:Mamaway Wiidokdaadwin
X-ORIGINAL-URL:https://mamaway.ca
X-WR-CALDESC:Events for Mamaway Wiidokdaadwin
REFRESH-INTERVAL;VALUE=DURATION:PT1H
X-Robots-Tag:noindex
X-PUBLISHED-TTL:PT1H
BEGIN:VTIMEZONE
TZID:America/Toronto
BEGIN:DAYLIGHT
TZOFFSETFROM:-0500
TZOFFSETTO:-0400
TZNAME:EDT
DTSTART:20230312T070000
END:DAYLIGHT
BEGIN:STANDARD
TZOFFSETFROM:-0400
TZOFFSETTO:-0500
TZNAME:EST
DTSTART:20231105T060000
END:STANDARD
BEGIN:DAYLIGHT
TZOFFSETFROM:-0500
TZOFFSETTO:-0400
TZNAME:EDT
DTSTART:20240310T070000
END:DAYLIGHT
BEGIN:STANDARD
TZOFFSETFROM:-0400
TZOFFSETTO:-0500
TZNAME:EST
DTSTART:20241103T060000
END:STANDARD
BEGIN:DAYLIGHT
TZOFFSETFROM:-0500
TZOFFSETTO:-0400
TZNAME:EDT
DTSTART:20250309T070000
END:DAYLIGHT
BEGIN:STANDARD
TZOFFSETFROM:-0400
TZOFFSETTO:-0500
TZNAME:EST
DTSTART:20251102T060000
END:STANDARD
END:VTIMEZONE
BEGIN:VEVENT
DTSTART;TZID=America/Toronto:20240709T130000
DTEND;TZID=America/Toronto:20240709T150000
DTSTAMP:20260424T105104
CREATED:20240524T135859Z
LAST-MODIFIED:20240710T181134Z
UID:10002475-1720530000-1720537200@mamaway.ca
SUMMARY:Red Road to Recovery- In Person at BANAC/Mamaway Office in Midland
DESCRIPTION:A 10-week program that uses the Medicine Wheel as a teaching tool and our Indigenous approach to healing to address the \nPhysical\, Emotional\, Mental\, and Spiritual \naspects of addiction and mental health recovery. \nFacilitators: Kathy StAmant and Steve Beaupre \nCase Manager: Zoe Horst 705-627-8148
URL:https://mamaway.ca/event/red-road-to-recovery-in-person-at-enaahtig-community-justice-centre-midland/2024-07-09/
LOCATION:BANAC/Mamaway Office. Midland\, 562 King St\, Midland
CATEGORIES:in-person
ATTACH;FMTTYPE=image/png:https://mamaway.ca/wp-content/uploads/2024/05/BANAC-office-Midland-June-25-Aug2024.png
ORGANIZER;CN="Zoe Horst":MAILTO:zhorst@banac.on.ca
END:VEVENT
END:VCALENDAR