BEGIN:VCALENDAR
VERSION:2.0
PRODID:-//Mamaway Wiidokdaadwin - ECPv6.15.12//NONSGML v1.0//EN
CALSCALE:GREGORIAN
METHOD:PUBLISH
X-ORIGINAL-URL:https://mamaway.ca
X-WR-CALDESC:Events for Mamaway Wiidokdaadwin
REFRESH-INTERVAL;VALUE=DURATION:PT1H
X-Robots-Tag:noindex
X-PUBLISHED-TTL:PT1H
BEGIN:VTIMEZONE
TZID:America/Toronto
BEGIN:DAYLIGHT
TZOFFSETFROM:-0500
TZOFFSETTO:-0400
TZNAME:EDT
DTSTART:20230312T070000
END:DAYLIGHT
BEGIN:STANDARD
TZOFFSETFROM:-0400
TZOFFSETTO:-0500
TZNAME:EST
DTSTART:20231105T060000
END:STANDARD
BEGIN:DAYLIGHT
TZOFFSETFROM:-0500
TZOFFSETTO:-0400
TZNAME:EDT
DTSTART:20240310T070000
END:DAYLIGHT
BEGIN:STANDARD
TZOFFSETFROM:-0400
TZOFFSETTO:-0500
TZNAME:EST
DTSTART:20241103T060000
END:STANDARD
BEGIN:DAYLIGHT
TZOFFSETFROM:-0500
TZOFFSETTO:-0400
TZNAME:EDT
DTSTART:20250309T070000
END:DAYLIGHT
BEGIN:STANDARD
TZOFFSETFROM:-0400
TZOFFSETTO:-0500
TZNAME:EST
DTSTART:20251102T060000
END:STANDARD
END:VTIMEZONE
BEGIN:VEVENT
DTSTART;TZID=America/Toronto:20240627T163000
DTEND;TZID=America/Toronto:20240627T190000
DTSTAMP:20260424T041452
CREATED:20240529T204136Z
LAST-MODIFIED:20240612T035829Z
UID:10002491-1719505800-1719514800@mamaway.ca
SUMMARY:#NotOurMedicine Campaign Development (8 weeks)
DESCRIPTION:Throughout the 8-week creation (8 consecutive Thursdays 430-7pm) of multi-media assets and campaign messaging\, there will be an effort in raising awareness and education for the youth in the region.  Our goal is for this to be a long-lasting campaign that is relevant in a meaningful and cultural way. \nThe campaign will focus on these key elements: \n\nAwareness about the dangers of opioid misuse\nUnderstanding what is our medicine\, building our bundles\nDiscuss where to go to for help and support when you needed.\n\nThe foundational philosophy is to reduce the stigma of opioid addiction.  And the message woven throughout will be the strength of cultural connections as supporting factors in recovery.
URL:https://mamaway.ca/event/notourmedicine-campaign-development-8-weeks/2024-06-27/
LOCATION:ON
ATTACH;FMTTYPE=image/png:https://mamaway.ca/wp-content/uploads/2024/05/NoM-8-week-engagment-Draft-v2-website-place-holder.png
ORGANIZER;CN="Bawdweodung Elliott":MAILTO:belliott@banac.on.ca
END:VEVENT
END:VCALENDAR