BEGIN:VCALENDAR
VERSION:2.0
PRODID:-//Mamaway Wiidokdaadwin - ECPv6.15.12//NONSGML v1.0//EN
CALSCALE:GREGORIAN
METHOD:PUBLISH
X-ORIGINAL-URL:https://mamaway.ca
X-WR-CALDESC:Events for Mamaway Wiidokdaadwin
REFRESH-INTERVAL;VALUE=DURATION:PT1H
X-Robots-Tag:noindex
X-PUBLISHED-TTL:PT1H
BEGIN:VTIMEZONE
TZID:America/Toronto
BEGIN:DAYLIGHT
TZOFFSETFROM:-0500
TZOFFSETTO:-0400
TZNAME:EDT
DTSTART:20230312T070000
END:DAYLIGHT
BEGIN:STANDARD
TZOFFSETFROM:-0400
TZOFFSETTO:-0500
TZNAME:EST
DTSTART:20231105T060000
END:STANDARD
BEGIN:DAYLIGHT
TZOFFSETFROM:-0500
TZOFFSETTO:-0400
TZNAME:EDT
DTSTART:20240310T070000
END:DAYLIGHT
BEGIN:STANDARD
TZOFFSETFROM:-0400
TZOFFSETTO:-0500
TZNAME:EST
DTSTART:20241103T060000
END:STANDARD
BEGIN:DAYLIGHT
TZOFFSETFROM:-0500
TZOFFSETTO:-0400
TZNAME:EDT
DTSTART:20250309T070000
END:DAYLIGHT
BEGIN:STANDARD
TZOFFSETFROM:-0400
TZOFFSETTO:-0500
TZNAME:EST
DTSTART:20251102T060000
END:STANDARD
END:VTIMEZONE
BEGIN:VEVENT
DTSTART;TZID=America/Toronto:20240626T090000
DTEND;TZID=America/Toronto:20240626T160000
DTSTAMP:20260424T041445
CREATED:20240528T205014Z
LAST-MODIFIED:20240528T205014Z
UID:10002488-1719392400-1719417600@mamaway.ca
SUMMARY:Ribbon Skirt Workshop
DESCRIPTION:Join Mamaway Wiidokdaadwin Life Promoter’s\, Courtney Thomas and Bawd Elliott for a Ribbon Skirt Workshop on Wednesday\, June 26th\, 2024\, from 9:00am – 4:00pm. \nWe have 6 spots available! \nClick here to register: https://survey.alchemer-ca.com/s3/50256205/june-ribbon-skirt-workshop \nLocation will be share after registration. \nIf you have any questions\, please reach out to Courtney Thomas cthomas@banac.on.ca and/or Bawd at belliott@banac.on.ca
URL:https://mamaway.ca/event/ribbon-skirt-workshop-2/
LOCATION:ON
ATTACH;FMTTYPE=image/jpeg:https://mamaway.ca/wp-content/uploads/2024/05/Ribbon-Skirt-Workshop-June-26_2024-Flyer.jpg
ORGANIZER;CN="Courtney Thomas":MAILTO:cthomas@banac.on.ca
END:VEVENT
BEGIN:VEVENT
DTSTART;TZID=America/Toronto:20240626T100000
DTEND;TZID=America/Toronto:20240626T160000
DTSTAMP:20260424T041445
CREATED:20240528T032842Z
LAST-MODIFIED:20240528T033222Z
UID:10002487-1719396000-1719417600@mamaway.ca
SUMMARY:Fire Keeper Two-Day Knowledge Sharing Event
DESCRIPTION:Fire Keeper two-day event with Biindigegezhig  \nDanny DelearyBiindigegizhig Danny Deleary BIO \nhttps://survey.alchemer-ca.com/s3/50260534/Mamaway-Wiidokdaadwin-Two-Day-Fire-Keeping-Knowledge-Sharing-Event-June-26th-27th
URL:https://mamaway.ca/event/fire-keeper-two-day-knowledge-sharing-event/
LOCATION:Springwater Park\, 1331 ON-26\, Midhurst\, Ontario\, L0L 1X0\, Canada
CATEGORIES:in-person,Mamaway Wiidokdaadwin
ORGANIZER;CN="Troy Monague":MAILTO:tmonague@banac.on.ca
END:VEVENT
BEGIN:VEVENT
DTSTART;TZID=America/Toronto:20240626T190000
DTEND;TZID=America/Toronto:20240626T210000
DTSTAMP:20260424T041445
CREATED:20240604T152630Z
LAST-MODIFIED:20240604T154450Z
UID:10002499-1719428400-1719435600@mamaway.ca
SUMMARY:Community Bonfire
DESCRIPTION:Community Bonfire with regional musicians \n\nJeff Monague\nDon Couchie\nJimbob Marsden\nPainted Sky\nJohn Copegog\n\nFollowed by the view of Indigenous film: Aitamaako’tamisskapi Natosi: Before the Sun to light \nat dusks (930pm)
URL:https://mamaway.ca/event/community-bonfire/
LOCATION:ON
ATTACH;FMTTYPE=image/png:https://mamaway.ca/wp-content/uploads/2024/06/Community-Bonfire-Flyer.png
END:VEVENT
BEGIN:VEVENT
DTSTART;TZID=America/Toronto:20240626T190000
DTEND;TZID=America/Toronto:20240626T210000
DTSTAMP:20260424T041445
CREATED:20240612T035512Z
LAST-MODIFIED:20240612T035531Z
UID:10001902-1719428400-1719435600@mamaway.ca
SUMMARY:Community Bonfire - Regional Indigenous Musicians
DESCRIPTION:Thank you everyone for sharing our call out for regional Indigenous Musicians. \nWe have secured 5 Talented Indigenous Musicians! \n\nJeff Monague\nJohn Copegog\nJimbob Marsden\nDon Couchie\nPainted Sky\n\nLet’s show our musicians some support and join them at the upcoming Community Bonfire while they share stories through song! You will find us beside the stage at Meridian Place from 7-9pm! \nWe will also have a fire and marshmallows plus some Indigenous craft vendors on site; healing bear remedies\, noopimiing creations + a few others! \nFeel free to bring your lawn chair for comfort but there will also be stadium seating available at the Meridian to enjoy the music and then an outdoor film. \nA large pop up movie screen will be all set up on the stage for the Barrie Film Festival that evening where they will be showing an Indigenous film: Aitamaako’tamisskapi Natosi: Before the Sun Film at dusk (9:30pm). \nWe hope to see you there\, please share with your friends and family!
URL:https://mamaway.ca/event/community-bonfire-regional-indigenous-musicians/
LOCATION:Meridian Place – 87 Dunlop St E\, Barrie On
ATTACH;FMTTYPE=image/png:https://mamaway.ca/wp-content/uploads/2024/06/Community-Bonfire-June-26-2024.png
ORGANIZER;CN="Lianne Hudon":MAILTO:lhudon@banac.on.ca
END:VEVENT
END:VCALENDAR