BEGIN:VCALENDAR
VERSION:2.0
PRODID:-//Mamaway Wiidokdaadwin - ECPv6.15.12//NONSGML v1.0//EN
CALSCALE:GREGORIAN
METHOD:PUBLISH
X-ORIGINAL-URL:https://mamaway.ca
X-WR-CALDESC:Events for Mamaway Wiidokdaadwin
REFRESH-INTERVAL;VALUE=DURATION:PT1H
X-Robots-Tag:noindex
X-PUBLISHED-TTL:PT1H
BEGIN:VTIMEZONE
TZID:America/Toronto
BEGIN:DAYLIGHT
TZOFFSETFROM:-0500
TZOFFSETTO:-0400
TZNAME:EDT
DTSTART:20230312T070000
END:DAYLIGHT
BEGIN:STANDARD
TZOFFSETFROM:-0400
TZOFFSETTO:-0500
TZNAME:EST
DTSTART:20231105T060000
END:STANDARD
BEGIN:DAYLIGHT
TZOFFSETFROM:-0500
TZOFFSETTO:-0400
TZNAME:EDT
DTSTART:20240310T070000
END:DAYLIGHT
BEGIN:STANDARD
TZOFFSETFROM:-0400
TZOFFSETTO:-0500
TZNAME:EST
DTSTART:20241103T060000
END:STANDARD
BEGIN:DAYLIGHT
TZOFFSETFROM:-0500
TZOFFSETTO:-0400
TZNAME:EDT
DTSTART:20250309T070000
END:DAYLIGHT
BEGIN:STANDARD
TZOFFSETFROM:-0400
TZOFFSETTO:-0500
TZNAME:EST
DTSTART:20251102T060000
END:STANDARD
END:VTIMEZONE
BEGIN:VEVENT
DTSTART;TZID=America/Toronto:20240530T110000
DTEND;TZID=America/Toronto:20240530T160000
DTSTAMP:20260424T080049
CREATED:20211206T144356Z
LAST-MODIFIED:20211206T144356Z
UID:10001857-1717066800-1717084800@mamaway.ca
SUMMARY:Virtual Healing Sessions with Arrole Lawrence on OTN
DESCRIPTION:
URL:https://mamaway.ca/event/virtual-healing-sessions-with-arrole-lawrence-on-otn/2024-05-30/
LOCATION:ON
CATEGORIES:Mamaway Wiidokdaadwin
ATTACH;FMTTYPE=image/png:https://mamaway.ca/wp-content/uploads/2021/11/Taditional-Healing-Seesions-Copy.png
ORGANIZER;CN="Chris Walser":MAILTO:mwtc@banac.on.ca
END:VEVENT
BEGIN:VEVENT
DTSTART;TZID=America/Toronto:20240530T130000
DTEND;TZID=America/Toronto:20240530T150000
DTSTAMP:20260424T080049
CREATED:20240327T180629Z
LAST-MODIFIED:20240412T143746Z
UID:10002390-1717074000-1717081200@mamaway.ca
SUMMARY:Red Road To Recovery- In Person Group @ Enaahtig Outreach Centre\, Orillia
DESCRIPTION:In Person \n10-week program that uses the Medicine Wheel teachings and\nour Indigenous approach to healing to address the\nPhysical\, Emotional\, Mental\, and Spiritual\naspects of addiction and mental health recovery \nFacilitators: Kathy St. Amant and Steve Beaupre \nQuestions? Please call or email Zoe; 705-627-8148 zhorst@banac.on.ca
URL:https://mamaway.ca/event/red-road-to-recovery-in-person-group/2024-05-30/
LOCATION:Enaahtig Orillia Outreach Centre\, 334 West St. N.\, Orillia\, ontaio\, Canada
CATEGORIES:in-person
ATTACH;FMTTYPE=image/png:https://mamaway.ca/wp-content/uploads/2021/10/red-road-logo.png
ORGANIZER;CN="Zoe Horst":MAILTO:zhorst@banac.on.ca
END:VEVENT
END:VCALENDAR