BEGIN:VCALENDAR
VERSION:2.0
PRODID:-//Mamaway Wiidokdaadwin - ECPv6.15.12//NONSGML v1.0//EN
CALSCALE:GREGORIAN
METHOD:PUBLISH
X-ORIGINAL-URL:https://mamaway.ca
X-WR-CALDESC:Events for Mamaway Wiidokdaadwin
REFRESH-INTERVAL;VALUE=DURATION:PT1H
X-Robots-Tag:noindex
X-PUBLISHED-TTL:PT1H
BEGIN:VTIMEZONE
TZID:America/Toronto
BEGIN:DAYLIGHT
TZOFFSETFROM:-0500
TZOFFSETTO:-0400
TZNAME:EDT
DTSTART:20230312T070000
END:DAYLIGHT
BEGIN:STANDARD
TZOFFSETFROM:-0400
TZOFFSETTO:-0500
TZNAME:EST
DTSTART:20231105T060000
END:STANDARD
BEGIN:DAYLIGHT
TZOFFSETFROM:-0500
TZOFFSETTO:-0400
TZNAME:EDT
DTSTART:20240310T070000
END:DAYLIGHT
BEGIN:STANDARD
TZOFFSETFROM:-0400
TZOFFSETTO:-0500
TZNAME:EST
DTSTART:20241103T060000
END:STANDARD
BEGIN:DAYLIGHT
TZOFFSETFROM:-0500
TZOFFSETTO:-0400
TZNAME:EDT
DTSTART:20250309T070000
END:DAYLIGHT
BEGIN:STANDARD
TZOFFSETFROM:-0400
TZOFFSETTO:-0500
TZNAME:EST
DTSTART:20251102T060000
END:STANDARD
END:VTIMEZONE
BEGIN:VEVENT
DTSTART;TZID=America/Toronto:20240424T100000
DTEND;TZID=America/Toronto:20240424T140000
DTSTAMP:20260422T060514
CREATED:20240418T180448Z
LAST-MODIFIED:20240419T173112Z
UID:10002446-1713952800-1713967200@mamaway.ca
SUMMARY:Beaded Lanyard Workshop
DESCRIPTION:Mamaway Wiidokdaadwin Life Promoter\, Courtney Thomas invites you to join her in making Beaded Lanyards on April 24th\, 2024 at 10:ooam. \nLunch will be provided. Location will be shared after registration. \nClick here to register: https://survey.alchemer-ca.com/s3/50255696/Beaded-Lanyard-Workshop \nIf you have any questions\, please reach out to Courtney at cthomas@banac.on.ca
URL:https://mamaway.ca/event/beaded-lanyard-workshop/
LOCATION:ONJ
ATTACH;FMTTYPE=image/jpeg:https://mamaway.ca/wp-content/uploads/2024/04/Beaded-Lanyard-Flyer-FINAL.jpg
END:VEVENT
BEGIN:VEVENT
DTSTART;TZID=America/Toronto:20240424T150000
DTEND;TZID=America/Toronto:20240424T170000
DTSTAMP:20260422T060514
CREATED:20240327T173101Z
LAST-MODIFIED:20240412T142325Z
UID:10002372-1713970800-1713978000@mamaway.ca
SUMMARY:Red Road to Recovery-Virtual Front Line Workers
DESCRIPTION:**Front Line Workers serving and supporting our Indigenous Communities** \nA 10-week program that uses the Medicine Wheel teachings and our Indigenous approach to healing to address the \nPhysical\, Emotional\, Mental\, and Spiritual \naspects of addiction and mental health recovery
URL:https://mamaway.ca/event/red-road-to-recovery-virtual-front-line-workers/2024-04-24/
LOCATION:Zoom
CATEGORIES:Virtual Program Offering
ATTACH;FMTTYPE=image/png:https://mamaway.ca/wp-content/uploads/2024/03/Front-Line-Workers-Virtual-April-10-June-122024.png
ORGANIZER;CN="Zoe Horst":MAILTO:zhorst@banac.on.ca
END:VEVENT
END:VCALENDAR