BEGIN:VCALENDAR
VERSION:2.0
PRODID:-//Mamaway Wiidokdaadwin - ECPv6.15.12//NONSGML v1.0//EN
CALSCALE:GREGORIAN
METHOD:PUBLISH
X-WR-CALNAME:Mamaway Wiidokdaadwin
X-ORIGINAL-URL:https://mamaway.ca
X-WR-CALDESC:Events for Mamaway Wiidokdaadwin
REFRESH-INTERVAL;VALUE=DURATION:PT1H
X-Robots-Tag:noindex
X-PUBLISHED-TTL:PT1H
BEGIN:VTIMEZONE
TZID:America/Toronto
BEGIN:DAYLIGHT
TZOFFSETFROM:-0500
TZOFFSETTO:-0400
TZNAME:EDT
DTSTART:20220313T070000
END:DAYLIGHT
BEGIN:STANDARD
TZOFFSETFROM:-0400
TZOFFSETTO:-0500
TZNAME:EST
DTSTART:20221106T060000
END:STANDARD
BEGIN:DAYLIGHT
TZOFFSETFROM:-0500
TZOFFSETTO:-0400
TZNAME:EDT
DTSTART:20230312T070000
END:DAYLIGHT
BEGIN:STANDARD
TZOFFSETFROM:-0400
TZOFFSETTO:-0500
TZNAME:EST
DTSTART:20231105T060000
END:STANDARD
BEGIN:DAYLIGHT
TZOFFSETFROM:-0500
TZOFFSETTO:-0400
TZNAME:EDT
DTSTART:20240310T070000
END:DAYLIGHT
BEGIN:STANDARD
TZOFFSETFROM:-0400
TZOFFSETTO:-0500
TZNAME:EST
DTSTART:20241103T060000
END:STANDARD
END:VTIMEZONE
BEGIN:VEVENT
DTSTART;TZID=America/Toronto:20230316T150000
DTEND;TZID=America/Toronto:20230316T170000
DTSTAMP:20260420T103118
CREATED:20230131T134944Z
LAST-MODIFIED:20230131T202449Z
UID:10001676-1678978800-1678986000@mamaway.ca
SUMMARY:Red Road to Recovery Frontline Support Workers Group
DESCRIPTION:A 10-week program that uses the Medicine Wheel teachings and an Indigenous approach to healing\, to address the\nphysical\, emotional\, mental\, and spiritual aspects of addiction and mental health recovery\, and to support those working in associated fields. \nTo register contact Ashley Simcoe asimcoe@banac.on.ca \n 
URL:https://mamaway.ca/event/red-road-to-recovery-frontline-support-workers-group-2023-03-16-2/2023-03-16/
LOCATION:Zoom
CATEGORIES:Mamaway Wiidokdaadwin,Virtual Program Offering
ATTACH;FMTTYPE=image/jpeg:https://mamaway.ca/wp-content/uploads/2023/01/RRR-FL-Poster-2023-01-31.jpg
ORGANIZER;CN="Ashley Simcoe":MAILTO:asimcoe@banac.on.ca
END:VEVENT
BEGIN:VEVENT
DTSTART;TZID=America/Toronto:20230316T150000
DTEND;TZID=America/Toronto:20230316T170000
DTSTAMP:20260420T103118
CREATED:20230131T134945Z
LAST-MODIFIED:20230131T202827Z
UID:10001668-1678978800-1678986000@mamaway.ca
SUMMARY:Red Road to Recovery Frontline Support Workers Group
DESCRIPTION:A 10-week program that uses the Medicine Wheel teachings and an Indigenous approach to healing\, to address the\nphysical\, emotional\, mental\, and spiritual aspects of addiction and mental health recovery\, and to   support those working in associated fields.\nTo register contact Ashley Simcoe asimcoe@banac.on.ca \n 
URL:https://mamaway.ca/event/red-road-to-recovery-frontline-support-workers-group-2023-03-09/2023-03-16/
LOCATION:ON
CATEGORIES:Mamaway Wiidokdaadwin,Virtual Program Offering
ATTACH;FMTTYPE=image/jpeg:https://mamaway.ca/wp-content/uploads/2023/01/RRR-FL-Poster-2023-01-31.jpg
ORGANIZER;CN="Ashley Simcoe":MAILTO:asimcoe@banac.on.ca
END:VEVENT
END:VCALENDAR